BEGIN:VCALENDAR
VERSION:2.0
PRODID:-//Owen County Library - ECPv6.15.20//NONSGML v1.0//EN
CALSCALE:GREGORIAN
METHOD:PUBLISH
X-WR-CALNAME:Owen County Library
X-ORIGINAL-URL:https://owenlib.org
X-WR-CALDESC:Events for Owen County Library
REFRESH-INTERVAL;VALUE=DURATION:PT1H
X-Robots-Tag:noindex
X-PUBLISHED-TTL:PT1H
BEGIN:VTIMEZONE
TZID:UTC
BEGIN:STANDARD
TZOFFSETFROM:+0000
TZOFFSETTO:+0000
TZNAME:UTC
DTSTART:20220101T000000
END:STANDARD
END:VTIMEZONE
BEGIN:VEVENT
DTSTART;TZID=UTC:20230523T180000
DTEND;TZID=UTC:20230523T200000
DTSTAMP:20260420T203300
CREATED:20230307T193821Z
LAST-MODIFIED:20230427T170541Z
UID:119321-1684864800-1684872000@owenlib.org
SUMMARY:Creative Journal Making
DESCRIPTION:Join us as we learn about creative ways to make journals of your own and what to put in them.
URL:https://owenlib.org/event/creative-journal-making/
CATEGORIES:Adult,Teen
ATTACH;FMTTYPE=image/jpeg:https://owenlib.org/wp-content/uploads/2023/03/7a1c07_818221fd31864da6bb929c7b85d720be_mv2.jpg
END:VEVENT
BEGIN:VEVENT
DTSTART;TZID=UTC:20230505T140000
DTEND;TZID=UTC:20230505T150000
DTSTAMP:20260420T203300
CREATED:20230323T141502Z
LAST-MODIFIED:20230427T165815Z
UID:119359-1683295200-1683298800@owenlib.org
SUMMARY:Watercolor Painting
DESCRIPTION:Watercolor Painting with Zoe Dean \nIn the youth Services Department. \n2-3 pm \nAll materials provided. Please call ahead to let us know to expect you.
URL:https://owenlib.org/event/water-color-painting-2/
CATEGORIES:Adult,Teen
ATTACH;FMTTYPE=image/jpeg:https://owenlib.org/wp-content/uploads/2023/03/waterpaint.jpg
END:VEVENT
BEGIN:VEVENT
DTSTART;TZID=UTC:20230428T140000
DTEND;TZID=UTC:20230428T150000
DTSTAMP:20260420T203300
CREATED:20230323T141716Z
LAST-MODIFIED:20230323T141716Z
UID:119361-1682690400-1682694000@owenlib.org
SUMMARY:Watercolor Painting
DESCRIPTION:Watercolor Painting with Zoe Dean \nIn the youth Services Department. \nEvery Friday in April\, 2-3 pm \nAll materials provided. Please call ahead to let us know to expect you.
URL:https://owenlib.org/event/watercolor-painting/
CATEGORIES:Adult,Teen
ATTACH;FMTTYPE=image/jpeg:https://owenlib.org/wp-content/uploads/2023/03/waterpaint.jpg
END:VEVENT
BEGIN:VEVENT
DTSTART;TZID=UTC:20230421T163000
DTEND;TZID=UTC:20230421T173000
DTSTAMP:20260420T203300
CREATED:20230323T141948Z
LAST-MODIFIED:20230323T141948Z
UID:119366-1682094600-1682098200@owenlib.org
SUMMARY:Polymer Clay
DESCRIPTION:Youth Department Activity Room. All materials provided. \nCall ahead so we know to expect you. \n812-829-3392
URL:https://owenlib.org/event/polymer-clay-2/
CATEGORIES:Adult,Teen
ATTACH;FMTTYPE=image/jpeg:https://owenlib.org/wp-content/uploads/2023/03/pexels-photo-8422174-scaled.jpeg
END:VEVENT
BEGIN:VEVENT
DTSTART;TZID=UTC:20230414T140000
DTEND;TZID=UTC:20230414T150000
DTSTAMP:20260420T203300
CREATED:20230323T141358Z
LAST-MODIFIED:20230323T141748Z
UID:119356-1681480800-1681484400@owenlib.org
SUMMARY:Watercolor Painting
DESCRIPTION:Watercolor Painting with Zoe Dean \nIn the youth Services Department. \nEvery Friday in April\, 2-3 pm \nAll materials provided. Please call ahead to let us know to expect you.
URL:https://owenlib.org/event/119356/
CATEGORIES:Adult,Teen
ATTACH;FMTTYPE=image/jpeg:https://owenlib.org/wp-content/uploads/2023/03/waterpaint.jpg
END:VEVENT
BEGIN:VEVENT
DTSTART;TZID=UTC:20230407T140000
DTEND;TZID=UTC:20230407T150000
DTSTAMP:20260420T203300
CREATED:20230323T141116Z
LAST-MODIFIED:20230323T141804Z
UID:119353-1680876000-1680879600@owenlib.org
SUMMARY:Watercolor Painting
DESCRIPTION:Watercolor Painting with Zoe Dean \nIn the youth Services Department. \nEvery Friday in April\, 2-3 pm \nAll materials provided. Please call ahead to let us know to expect you.
URL:https://owenlib.org/event/water-color-painting/
CATEGORIES:Adult,Teen
ATTACH;FMTTYPE=image/jpeg:https://owenlib.org/wp-content/uploads/2023/03/waterpaint.jpg
END:VEVENT
BEGIN:VEVENT
DTSTART;TZID=UTC:20230324T163000
DTEND;TZID=UTC:20230324T173000
DTSTAMP:20260420T203300
CREATED:20230307T194215Z
LAST-MODIFIED:20230323T140324Z
UID:119324-1679675400-1679679000@owenlib.org
SUMMARY:Polymer Clay
DESCRIPTION:Youth Department Activity Room. All materials provided. \nCall ahead so we know to expect you. \n812-829-3392
URL:https://owenlib.org/event/polymer-clay/
CATEGORIES:Adult,Teen
ATTACH;FMTTYPE=image/jpeg:https://owenlib.org/wp-content/uploads/2023/03/pexels-photo-8422174-scaled.jpeg
END:VEVENT
END:VCALENDAR