BEGIN:VCALENDAR
VERSION:2.0
PRODID:-//Owen County Library - ECPv6.15.20//NONSGML v1.0//EN
CALSCALE:GREGORIAN
METHOD:PUBLISH
X-WR-CALNAME:Owen County Library
X-ORIGINAL-URL:https://owenlib.org
X-WR-CALDESC:Events for Owen County Library
REFRESH-INTERVAL;VALUE=DURATION:PT1H
X-Robots-Tag:noindex
X-PUBLISHED-TTL:PT1H
BEGIN:VTIMEZONE
TZID:UTC
BEGIN:STANDARD
TZOFFSETFROM:+0000
TZOFFSETTO:+0000
TZNAME:UTC
DTSTART:20220101T000000
END:STANDARD
END:VTIMEZONE
BEGIN:VEVENT
DTSTART;TZID=UTC:20230415T100000
DTEND;TZID=UTC:20230415T130000
DTSTAMP:20260422T174230
CREATED:20230323T161826Z
LAST-MODIFIED:20230323T161826Z
UID:119398-1681552800-1681563600@owenlib.org
SUMMARY:Computer Class
DESCRIPTION:Here is an opportunity to work with IU students and learn more about Google Docs\, Google Sheets\, and Google Slides. These are a popular free alternative to using Microsoft Office. \n  \nPlease Bring your own laptop if you want. Limited computer space available.
URL:https://owenlib.org/event/computer-class/
CATEGORIES:Adult
ATTACH;FMTTYPE=image/png:https://owenlib.org/wp-content/uploads/2023/03/Spencer1.png
END:VEVENT
END:VCALENDAR