BEGIN:VCALENDAR
VERSION:2.0
PRODID:-//Owen County Library - ECPv6.15.20//NONSGML v1.0//EN
CALSCALE:GREGORIAN
METHOD:PUBLISH
X-WR-CALNAME:Owen County Library
X-ORIGINAL-URL:https://owenlib.org
X-WR-CALDESC:Events for Owen County Library
REFRESH-INTERVAL;VALUE=DURATION:PT1H
X-Robots-Tag:noindex
X-PUBLISHED-TTL:PT1H
BEGIN:VTIMEZONE
TZID:UTC
BEGIN:STANDARD
TZOFFSETFROM:+0000
TZOFFSETTO:+0000
TZNAME:UTC
DTSTART:20220101T000000
END:STANDARD
END:VTIMEZONE
BEGIN:VEVENT
DTSTART;TZID=UTC:20230414T140000
DTEND;TZID=UTC:20230414T150000
DTSTAMP:20260422T174155
CREATED:20230323T141358Z
LAST-MODIFIED:20230323T141748Z
UID:119356-1681480800-1681484400@owenlib.org
SUMMARY:Watercolor Painting
DESCRIPTION:Watercolor Painting with Zoe Dean \nIn the youth Services Department. \nEvery Friday in April\, 2-3 pm \nAll materials provided. Please call ahead to let us know to expect you.
URL:https://owenlib.org/event/119356/
CATEGORIES:Adult,Teen
ATTACH;FMTTYPE=image/jpeg:https://owenlib.org/wp-content/uploads/2023/03/waterpaint.jpg
END:VEVENT
END:VCALENDAR