BEGIN:VCALENDAR
VERSION:2.0
PRODID:-//Owen County Library - ECPv6.15.20//NONSGML v1.0//EN
CALSCALE:GREGORIAN
METHOD:PUBLISH
X-WR-CALNAME:Owen County Library
X-ORIGINAL-URL:https://owenlib.org
X-WR-CALDESC:Events for Owen County Library
REFRESH-INTERVAL;VALUE=DURATION:PT1H
X-Robots-Tag:noindex
X-PUBLISHED-TTL:PT1H
BEGIN:VTIMEZONE
TZID:UTC
BEGIN:STANDARD
TZOFFSETFROM:+0000
TZOFFSETTO:+0000
TZNAME:UTC
DTSTART:20220101T000000
END:STANDARD
END:VTIMEZONE
BEGIN:VEVENT
DTSTART;TZID=UTC:20230503T153000
DTEND;TZID=UTC:20230503T173000
DTSTAMP:20260422T174100
CREATED:20230307T192429Z
LAST-MODIFIED:20230427T170642Z
UID:119315-1683127800-1683135000@owenlib.org
SUMMARY:Crochet with BJ
DESCRIPTION:Drop in and learn how to Crochet. Come anytime during the program. \nAll materials provided.
URL:https://owenlib.org/event/crochet-with-bj/
CATEGORIES:Adult
ATTACH;FMTTYPE=image/jpeg:https://owenlib.org/wp-content/uploads/2023/03/pexels-diego-pontes-2897128.jpg
END:VEVENT
BEGIN:VEVENT
DTSTART;TZID=UTC:20230505T140000
DTEND;TZID=UTC:20230505T150000
DTSTAMP:20260422T174100
CREATED:20230323T141502Z
LAST-MODIFIED:20230427T165815Z
UID:119359-1683295200-1683298800@owenlib.org
SUMMARY:Watercolor Painting
DESCRIPTION:Watercolor Painting with Zoe Dean \nIn the youth Services Department. \n2-3 pm \nAll materials provided. Please call ahead to let us know to expect you.
URL:https://owenlib.org/event/water-color-painting-2/
CATEGORIES:Adult,Teen
ATTACH;FMTTYPE=image/jpeg:https://owenlib.org/wp-content/uploads/2023/03/waterpaint.jpg
END:VEVENT
BEGIN:VEVENT
DTSTART;TZID=UTC:20230523T180000
DTEND;TZID=UTC:20230523T200000
DTSTAMP:20260422T174100
CREATED:20230307T193821Z
LAST-MODIFIED:20230427T170541Z
UID:119321-1684864800-1684872000@owenlib.org
SUMMARY:Creative Journal Making
DESCRIPTION:Join us as we learn about creative ways to make journals of your own and what to put in them.
URL:https://owenlib.org/event/creative-journal-making/
CATEGORIES:Adult,Teen
ATTACH;FMTTYPE=image/jpeg:https://owenlib.org/wp-content/uploads/2023/03/7a1c07_818221fd31864da6bb929c7b85d720be_mv2.jpg
END:VEVENT
END:VCALENDAR